BEGIN:VCALENDAR
VERSION:2.0
PRODID:-//Mike Wiley Productions  - ECPv6.11.2.1//NONSGML v1.0//EN
CALSCALE:GREGORIAN
METHOD:PUBLISH
X-WR-CALNAME:Mike Wiley Productions 
X-ORIGINAL-URL:https://mikewileyproductions.com
X-WR-CALDESC:Events for Mike Wiley Productions 
REFRESH-INTERVAL;VALUE=DURATION:PT1H
X-Robots-Tag:noindex
X-PUBLISHED-TTL:PT1H
BEGIN:VTIMEZONE
TZID:UTC
BEGIN:STANDARD
TZOFFSETFROM:+0000
TZOFFSETTO:+0000
TZNAME:UTC
DTSTART:20200101T000000
END:STANDARD
END:VTIMEZONE
BEGIN:VEVENT
DTSTART;VALUE=DATE:20201130
DTEND;VALUE=DATE:20201205
DTSTAMP:20260421T144741
CREATED:20200512T184749Z
LAST-MODIFIED:20200512T184749Z
UID:3221-1606694400-1607126399@mikewileyproductions.com
SUMMARY:ONE NOBLE JOURNEY: A BOX MARKED FREEDOM
DESCRIPTION:A cARTwheels residency funded by the NC Arts Council
URL:https://mikewileyproductions.com/event/one-noble-journey-a-box-marked-freedom-20/
LOCATION:Clay County Schools\, Hayesville\, NC\, United States
CATEGORIES:In-School Performances | Workshops | Residencies
END:VEVENT
END:VCALENDAR