BEGIN:VCALENDAR
VERSION:2.0
PRODID:-//Mike Wiley Productions  - ECPv6.11.2.1//NONSGML v1.0//EN
CALSCALE:GREGORIAN
METHOD:PUBLISH
X-WR-CALNAME:Mike Wiley Productions 
X-ORIGINAL-URL:https://mikewileyproductions.com
X-WR-CALDESC:Events for Mike Wiley Productions 
REFRESH-INTERVAL;VALUE=DURATION:PT1H
X-Robots-Tag:noindex
X-PUBLISHED-TTL:PT1H
BEGIN:VTIMEZONE
TZID:UTC
BEGIN:STANDARD
TZOFFSETFROM:+0000
TZOFFSETTO:+0000
TZNAME:UTC
DTSTART:20270101T000000
END:STANDARD
END:VTIMEZONE
BEGIN:VEVENT
DTSTART;TZID=UTC:20270131T140000
DTEND;TZID=UTC:20270131T160000
DTSTAMP:20260423T212824
CREATED:20260219T034825Z
LAST-MODIFIED:20260219T034825Z
UID:4697-1801404000-1801411200@mikewileyproductions.com
SUMMARY:ONE NOBLE JOURNEY: A BOX MARKED FREEDOM
DESCRIPTION:One Public Performance at 2:00
URL:https://mikewileyproductions.com/event/one-noble-journey-a-box-marked-freedom-53/
LOCATION:Temple Theatre\, 120 Carthage Street\, Sanford\, NC\, United States
END:VEVENT
END:VCALENDAR