BEGIN:VCALENDAR
VERSION:2.0
PRODID:-//Mike Wiley Productions  - ECPv6.11.2.1//NONSGML v1.0//EN
CALSCALE:GREGORIAN
METHOD:PUBLISH
X-ORIGINAL-URL:https://mikewileyproductions.com
X-WR-CALDESC:Events for Mike Wiley Productions 
REFRESH-INTERVAL;VALUE=DURATION:PT1H
X-Robots-Tag:noindex
X-PUBLISHED-TTL:PT1H
BEGIN:VTIMEZONE
TZID:UTC
BEGIN:STANDARD
TZOFFSETFROM:+0000
TZOFFSETTO:+0000
TZNAME:UTC
DTSTART:20270101T000000
END:STANDARD
END:VTIMEZONE
BEGIN:VEVENT
DTSTART;VALUE=DATE:20270121
DTEND;VALUE=DATE:20270123
DTSTAMP:20260423T213159
CREATED:20260307T171337Z
LAST-MODIFIED:20260307T171337Z
UID:4703-1800489600-1800662399@mikewileyproductions.com
SUMMARY:TIRED SOULS: KING AND THE MONTGOMERY BUS BOYCOTT
DESCRIPTION:2 Student Performances Daily at 10:00 & 12:30
URL:https://mikewileyproductions.com/event/tired-souls-king-and-the-montgomery-bus-boycott-13/
LOCATION:New Jersey Performing Arts Center NJPAC\, 1 Center Street\, Newark\, NJ\, 07102\, United States
END:VEVENT
END:VCALENDAR