BEGIN:VCALENDAR
VERSION:2.0
PRODID:-//Mike Wiley Productions  - ECPv6.11.2.1//NONSGML v1.0//EN
CALSCALE:GREGORIAN
METHOD:PUBLISH
X-WR-CALNAME:Mike Wiley Productions 
X-ORIGINAL-URL:https://mikewileyproductions.com
X-WR-CALDESC:Events for Mike Wiley Productions 
REFRESH-INTERVAL;VALUE=DURATION:PT1H
X-Robots-Tag:noindex
X-PUBLISHED-TTL:PT1H
BEGIN:VTIMEZONE
TZID:UTC
BEGIN:STANDARD
TZOFFSETFROM:+0000
TZOFFSETTO:+0000
TZNAME:UTC
DTSTART:20260101T000000
END:STANDARD
END:VTIMEZONE
BEGIN:VEVENT
DTSTART;VALUE=DATE:20261024
DTEND;VALUE=DATE:20261025
DTSTAMP:20260423T175815
CREATED:20260317T173158Z
LAST-MODIFIED:20260317T173158Z
UID:4719-1792800000-1792886399@mikewileyproductions.com
SUMMARY:ONE NOBLE JOURNEY: A BOX MARKED FREEDOM
DESCRIPTION:2 Public Performances at 1:00 & 3:00
URL:https://mikewileyproductions.com/event/one-noble-journey-a-box-marked-freedom-56/
LOCATION:Children’s Theatre of Charlotte\, Charlotte\, NC\, United States
END:VEVENT
END:VCALENDAR